BEGIN:VCALENDAR
VERSION:2.0
PRODID:-//GCA - ECPv6.15.20//NONSGML v1.0//EN
CALSCALE:GREGORIAN
METHOD:PUBLISH
X-WR-CALNAME:GCA
X-ORIGINAL-URL:https://www.greetingcard.org
X-WR-CALDESC:Events for GCA
REFRESH-INTERVAL;VALUE=DURATION:PT1H
X-Robots-Tag:noindex
X-PUBLISHED-TTL:PT1H
BEGIN:VTIMEZONE
TZID:America/New_York
BEGIN:DAYLIGHT
TZOFFSETFROM:-0500
TZOFFSETTO:-0400
TZNAME:EDT
DTSTART:20240310T070000
END:DAYLIGHT
BEGIN:STANDARD
TZOFFSETFROM:-0400
TZOFFSETTO:-0500
TZNAME:EST
DTSTART:20241103T060000
END:STANDARD
BEGIN:DAYLIGHT
TZOFFSETFROM:-0500
TZOFFSETTO:-0400
TZNAME:EDT
DTSTART:20250309T070000
END:DAYLIGHT
BEGIN:STANDARD
TZOFFSETFROM:-0400
TZOFFSETTO:-0500
TZNAME:EST
DTSTART:20251102T060000
END:STANDARD
BEGIN:DAYLIGHT
TZOFFSETFROM:-0500
TZOFFSETTO:-0400
TZNAME:EDT
DTSTART:20260308T070000
END:DAYLIGHT
BEGIN:STANDARD
TZOFFSETFROM:-0400
TZOFFSETTO:-0500
TZNAME:EST
DTSTART:20261101T060000
END:STANDARD
END:VTIMEZONE
BEGIN:VEVENT
DTSTART;TZID=America/New_York:20250625T130000
DTEND;TZID=America/New_York:20250625T140000
DTSTAMP:20260425T084616
CREATED:20250520T164246Z
LAST-MODIFIED:20250522T211305Z
UID:387019-1750856400-1750860000@www.greetingcard.org
SUMMARY:GCA Webinar: The Secret of Sellable: Transforming Captivating Creations into Must-Have Lines
DESCRIPTION:Join GCA for our next quarterly webinar of 2025 on Wednesday\, June 25th at 11am MT/1pm ET\, sponsored by American Greetings. RSVP Here. Please note\, this will take place in lieu of Town Hall. \nUnique and captivating products are everywhere—but consistent wholesale success? That’s the rare gem everyone’s hunting for. In this candid\, fast-paced session\, the team at MC Nexus pulls back the curtain on what actually makes reps champion certain brands while others languish in line sheets. \nLeave with actionable tactics to become the brand everyone wants to carry\, practical ways to eliminate sales friction\, and the confidence to build systems that generate predictable reorders. If you’re tired of wondering why exceptional products aren’t enough\, this is the insider’s playbook you’ve been waiting for. \nPresented by MC Nexus \nYou don’t need to do it all alone.\nMC Nexus was born out of one simple truth: too many brands are overwhelmed by wholesale.\nThey saw founders buried in order platforms\, sales teams not receiving the tools they need\, frustration growing and growth slowing—not because the product isn’t great\, but because the strategy isn’t there. \nMC Nexus aims: \n\nTo clean up the chaos\nTo bring clarity\nTo help brands grow with purpose\n\nSupporting creatives and makers who need real support and no fluff. \nThis webinar is free for GCA members and $25 for non-members. The recording will be posted to the Resource Center after. \nThank you to our Webinar Sponsor
URL:https://www.greetingcard.org/event/gca-webinar-the-secret-of-sellable/
LOCATION:Virtual Event
ATTACH;FMTTYPE=image/png:https://www.greetingcard.org/wp-content/uploads/2023/12/GCA-Webinar-Event-Page.png
END:VEVENT
END:VCALENDAR