BEGIN:VCALENDAR
VERSION:2.0
PRODID:-//GCA - ECPv6.15.20//NONSGML v1.0//EN
CALSCALE:GREGORIAN
METHOD:PUBLISH
X-ORIGINAL-URL:https://www.greetingcard.org
X-WR-CALDESC:Events for GCA
REFRESH-INTERVAL;VALUE=DURATION:PT1H
X-Robots-Tag:noindex
X-PUBLISHED-TTL:PT1H
BEGIN:VTIMEZONE
TZID:America/New_York
BEGIN:DAYLIGHT
TZOFFSETFROM:-0500
TZOFFSETTO:-0400
TZNAME:EDT
DTSTART:20240310T070000
END:DAYLIGHT
BEGIN:STANDARD
TZOFFSETFROM:-0400
TZOFFSETTO:-0500
TZNAME:EST
DTSTART:20241103T060000
END:STANDARD
BEGIN:DAYLIGHT
TZOFFSETFROM:-0500
TZOFFSETTO:-0400
TZNAME:EDT
DTSTART:20250309T070000
END:DAYLIGHT
BEGIN:STANDARD
TZOFFSETFROM:-0400
TZOFFSETTO:-0500
TZNAME:EST
DTSTART:20251102T060000
END:STANDARD
BEGIN:DAYLIGHT
TZOFFSETFROM:-0500
TZOFFSETTO:-0400
TZNAME:EDT
DTSTART:20260308T070000
END:DAYLIGHT
BEGIN:STANDARD
TZOFFSETFROM:-0400
TZOFFSETTO:-0500
TZNAME:EST
DTSTART:20261101T060000
END:STANDARD
END:VTIMEZONE
BEGIN:VTIMEZONE
TZID:America/Los_Angeles
BEGIN:DAYLIGHT
TZOFFSETFROM:-0800
TZOFFSETTO:-0700
TZNAME:PDT
DTSTART:20240310T100000
END:DAYLIGHT
BEGIN:STANDARD
TZOFFSETFROM:-0700
TZOFFSETTO:-0800
TZNAME:PST
DTSTART:20241103T090000
END:STANDARD
BEGIN:DAYLIGHT
TZOFFSETFROM:-0800
TZOFFSETTO:-0700
TZNAME:PDT
DTSTART:20250309T100000
END:DAYLIGHT
BEGIN:STANDARD
TZOFFSETFROM:-0700
TZOFFSETTO:-0800
TZNAME:PST
DTSTART:20251102T090000
END:STANDARD
BEGIN:DAYLIGHT
TZOFFSETFROM:-0800
TZOFFSETTO:-0700
TZNAME:PDT
DTSTART:20260308T100000
END:DAYLIGHT
BEGIN:STANDARD
TZOFFSETFROM:-0700
TZOFFSETTO:-0800
TZNAME:PST
DTSTART:20261101T090000
END:STANDARD
END:VTIMEZONE
BEGIN:VEVENT
DTSTART;VALUE=DATE:20250727
DTEND;VALUE=DATE:20250731
DTSTAMP:20260419T120937
CREATED:20241008T162620Z
LAST-MODIFIED:20250417T143912Z
UID:386465-1753574400-1753919999@www.greetingcard.org
SUMMARY:*Noted: The Greeting Card Expo 2025
DESCRIPTION:*Noted: The Greeting Card Expo\n\nJuly 27- July 30\, 2025\nExpo at World Market Center Las Vegas\n*Noted: the Greeting Card Expo is a greeting card industry event\, created by the community\, for the community. Since launched by the Greeting Card Association in 2019\, *Noted has been the largest gathering of greeting card makers in North America. The goal is to gather all parts of the greeting card community\, provide new connections\, discover products and resources\, and celebrate the diversity of greeting cards and the people behind them. \nANDMORE℠ has partnered with the Greeting Card Association (GCA) to move and expand its *Noted: The Greeting Card Expo from San Francisco to Las Vegas\, showcasing the new and now of stationery at the Expo at World Market Center Las Vegas beginning in Summer 2025. *Noted will be featured in a dedicated area within Las Vegas Market’s gift and home temporary exhibits. Featuring over 50 GCA member brands showcasing the finest card design\, the area will include networking space and unique activations to foster connections and promote collaboration among industry professionals. \n*Noted will run Sunday\, July 27\, through Wednesday\, July 30\, 2025\, alongside Las Vegas Market’s 500+ gift and home temporary exhibitors. Las Vegas Market showcases tradeshow resources in six carefully curated categories: Gift\, Design\, Handmade\, Home\, Immediate Delivery and Luxe. More information about *Noted Expo’s relocation to Las Vegas Market will be available in the coming months.
URL:https://www.greetingcard.org/event/noted-the-greeting-card-expo-2025/
LOCATION:Expo at World Market Center Las Vegas
ATTACH;FMTTYPE=image/png:https://www.greetingcard.org/wp-content/uploads/2024/10/noted2025_cardtalk2.png
END:VEVENT
BEGIN:VEVENT
DTSTART;TZID=America/Los_Angeles:20250727T190000
DTEND;TZID=America/Los_Angeles:20250727T220000
DTSTAMP:20260419T120937
CREATED:20250416T170639Z
LAST-MODIFIED:20250416T170639Z
UID:386978-1753642800-1753653600@www.greetingcard.org
SUMMARY:36th Louie Awards Ceremony
DESCRIPTION:The annual Louie Awards program has been honoring the best cards in the industry for over 30 years. Brought to you by the Greeting Card Association\, the Louie Awards recognize\, reward\, and celebrate that moment when art\, editorial\, and design perfectly coalesce to bring these emotions to life and memorialize the numerous milestones in our lives.\nJoin us as we honor the best cards of the year during *Noted: The Greeting Card Expo. This event is our opportunity to gather for an unforgettable evening to connect with industry peers\, welcome back in-person events\, and celebrate the Louie Award winners. \nDate:: Sunday\, July 27th \nTime: 7pm – 10pm \nVenue: Las Vegas World Market Expo \nTickets are $135/per ticket. \nPurchase your ticket here
URL:https://www.greetingcard.org/event/36th-louie-awards-ceremony/
LOCATION:Expo at World Market Center Las Vegas
ATTACH;FMTTYPE=image/png:https://www.greetingcard.org/wp-content/uploads/2024/12/Louie-Awards-Card-Talk-Image-1.png
END:VEVENT
END:VCALENDAR